BEGIN:VCALENDAR
VERSION:2.0
PRODID:-//Hainaut Terre de Gouts - ECPv6.15.17.1//NONSGML v1.0//EN
CALSCALE:GREGORIAN
METHOD:PUBLISH
X-ORIGINAL-URL:https://hainaut-terredegouts.be
X-WR-CALDESC:Évènements pour Hainaut Terre de Gouts
REFRESH-INTERVAL;VALUE=DURATION:PT1H
X-Robots-Tag:noindex
X-PUBLISHED-TTL:PT1H
BEGIN:VTIMEZONE
TZID:Europe/Brussels
BEGIN:DAYLIGHT
TZOFFSETFROM:+0100
TZOFFSETTO:+0200
TZNAME:CEST
DTSTART:20220327T010000
END:DAYLIGHT
BEGIN:STANDARD
TZOFFSETFROM:+0200
TZOFFSETTO:+0100
TZNAME:CET
DTSTART:20221030T010000
END:STANDARD
BEGIN:DAYLIGHT
TZOFFSETFROM:+0100
TZOFFSETTO:+0200
TZNAME:CEST
DTSTART:20230326T010000
END:DAYLIGHT
BEGIN:STANDARD
TZOFFSETFROM:+0200
TZOFFSETTO:+0100
TZNAME:CET
DTSTART:20231029T010000
END:STANDARD
BEGIN:DAYLIGHT
TZOFFSETFROM:+0100
TZOFFSETTO:+0200
TZNAME:CEST
DTSTART:20240331T010000
END:DAYLIGHT
BEGIN:STANDARD
TZOFFSETFROM:+0200
TZOFFSETTO:+0100
TZNAME:CET
DTSTART:20241027T010000
END:STANDARD
END:VTIMEZONE
BEGIN:VEVENT
DTSTART;TZID=Europe/Brussels:20231011T140000
DTEND;TZID=Europe/Brussels:20231011T160000
DTSTAMP:20260425T180358
CREATED:20230929T081102Z
LAST-MODIFIED:20230929T081122Z
UID:105103-1697032800-1697040000@hainaut-terredegouts.be
SUMMARY:Atelier découverte de la chocolaterie “Au Manon d’Hor”
DESCRIPTION:Atelier de découverte du métier de chocolatier chez un artisan chocolatier local “Au Manon d’Hor” proposés gratuitement aux enfants âgés entre 6 et 12 ans. \n\n\n\n \n\n\n\nUne belle façon de découvrir l’importance des relations “Nord-Sud” à travers cet atelier ! \n\n\n\n \n\n\n\nLes enfants pourront déguster et/ou emporter leurs réalisations. \n\n\n\n \n\n\n\nConditions de participation à l’activité : \n\n\n\nInscription obligatoire avant le 4 octobre 2023. \n\n\n\nActivité gratuite | nombre limité de participants. \n\n\n\n \n\n\n\nInformations : \n\n\n\nVille de Soignies\, en collaboration avec Marc DESAGRE. \n\n\n\nMail : melissa.deruwez@soignies.be / Tél.: +32 67 347 382 \n\n\n\n \n\n\n\nCet atelier s’inscrit dans le cadre du Festival “Nourrir le Cœur du Hainaut”.
URL:https://hainaut-terredegouts.be/evenement/atelier-decouverte-de-la-chocolaterie-au-manon-dhor/
LOCATION:Au Manon d’Hor Rue de l’Aire 5 Soignies\, Hainaut 7060\, Rue de l'Aire 5\, Soignies\, 7060\, Belgium
CATEGORIES:Atelier(s) créatif(s)
ATTACH;FMTTYPE=image/png:https://hainaut-terredegouts.be/wp-content/uploads/2023/09/Chocolat.png
ORGANIZER;CN="Ville de Soignies - Office du Tourisme":MAILTO:info@soignies.be
END:VEVENT
BEGIN:VEVENT
DTSTART;TZID=Europe/Brussels:20231014T150000
DTEND;TZID=Europe/Brussels:20231014T183000
DTSTAMP:20260425T180358
CREATED:20230929T091143Z
LAST-MODIFIED:20230929T091150Z
UID:105124-1697295600-1697308200@hainaut-terredegouts.be
SUMMARY:Atelier expérimentation Low-Tech
DESCRIPTION:Le Low Tech se caractérise par la mise en œuvre de technologies simples\, peu onéreuses\, accessibles à tous et facilement réparables\, faisant appel à des moyens courants et localement disponibles. \n\n\n\n \n\n\n\nLe contexte actuel de crise climatique\, énergétique\, économique\, nous pousse à revenir à l’essentiel. Comment produire mieux\, avec moins ? \n\n\n\n \n\n\n\nLe Fil Vert vous invite à expérimenter des technologies parfois innovantes\, parfois anciennes mais qui ont toutes l’avantage d’être simples\, peu coûteuses et efficaces. \n\n\n\n \n\n\n\nAperçu des ateliers : \n\n\n\n \n\n\n\n\nConfection de Kefir\n\n\n\nGermoir à graines\n\n\n\nFabrication de marmite norvégienne\n\n\n\nMode d’emploi du Lombricomposte\n\n\n\nComment économiser l’eau dans le potager\n\n\n\nAnimation Low Tech lab\n\n\n\n…\n\n\n\n\n \n\n\n\nConditions de participation à l’activité : \n\n\n\nGratuit.  \n\n\n\n \n\n\n\n\n\n\n\nInformations : \n\n\n\nLe Fil vert  \n\n\n\nEva DUMOULIN –  Mail : e.dumoulin@ciep-hainautcentre.be   \n\n\n\n \n\n\n\nDépliant de présentation \n\n\n\n \n\n\n\nCette après-midi s’inscrit dans le cadre du Festival “Nourrir le Cœur du Hainaut”.
URL:https://hainaut-terredegouts.be/evenement/atelier-experimentation-low-tech/
LOCATION:Quartier Théâtre Rue André Renard 27 La Louvière\, 7110\, rue André Renard 27\, La Louvière\, 7110\, Belgium
CATEGORIES:Atelier(s) créatif(s)
ATTACH;FMTTYPE=image/jpeg:https://hainaut-terredegouts.be/wp-content/uploads/2023/09/14-4-Low-tech-telechargee-sur-Freepik.jpg
ORGANIZER;CN="Le Fil Vert":MAILTO:contact@filvertlalouviere.be
END:VEVENT
BEGIN:VEVENT
DTSTART;TZID=Europe/Brussels:20231019T090000
DTEND;TZID=Europe/Brussels:20231019T103000
DTSTAMP:20260425T180358
CREATED:20231003T091405Z
LAST-MODIFIED:20231003T091423Z
UID:105216-1697706000-1697711400@hainaut-terredegouts.be
SUMMARY:Miam Miak : Atelier jeu sur les aliments\, une aventure gourmande avec les BatrAliens !
DESCRIPTION:Préparez-vous pour une invasion gourmande venue d’ailleurs ! Relevez le défi intergalactique de Miam Miak : Accumulez des points\, affrontez les autres BatrAliens affamés et devenez le champion des courses ! \n\n\n\n \n\n\n\nPlusieurs ateliers sont prévus : de 11h à 12h30 / 13h à 14h30 / 15h à 16h30. \n\n\n\n \n\n\n\nConditions de participation à l’activité : \n\n\n\nParticipation gratuite. Sur inscription\, via www.aktina.be \n\n\n\n \n\n\n\nInformations : \n\n\n\nAktina asbl \n\n\n\nCédric LIONNET \n\n\n\nMail : cedric@aktina.be \n\n\n\nTél. +32 495 511 896 \n\n\n\n \n\n\n\nCette activité s’inscrit dans le cadre du Festival “Nourrir le Cœur du Hainaut”.
URL:https://hainaut-terredegouts.be/evenement/miam-miak-atelier-jeu-sur-les-aliments-une-aventure-gourmande-avec-les-batraliens/
LOCATION:La Maison Folie\, Rue des Arbalestriers 8\, MONS\, 7000\, Belgium
CATEGORIES:Atelier(s) créatif(s)
ATTACH;FMTTYPE=image/png:https://hainaut-terredegouts.be/wp-content/uploads/2023/10/19-3-19-et-26-Miam-Miak.png
ORGANIZER;CN="Aktina asbl":MAILTO:cedric@aktina.be
END:VEVENT
BEGIN:VEVENT
DTSTART;TZID=Europe/Brussels:20231019T093000
DTEND;TZID=Europe/Brussels:20231019T110000
DTSTAMP:20260425T180358
CREATED:20231003T093401Z
LAST-MODIFIED:20231003T093408Z
UID:105222-1697707800-1697713200@hainaut-terredegouts.be
SUMMARY:C’est quoi l’alimentation intuitive ? - Atelier
DESCRIPTION:Atelier ludique autour de l’acte de manger qui intègre à la faim\, le plaisir\, les dimensions sociales et symboliques. \n\n\n\nAutre atelier prévu de 11h30 à 13h. \n\n\n\nConditions de participation à l’activité :Participation gratuite. Sur inscription\, via www.aktina.be \n\n\n\nInformations :Aktina asblCédric LIONNETMail: cedric@aktina.beTél. +32 (0)495 511 896 \n\n\n\n \n\n\n\nCet atelier s’inscrit dans le cadre du Festival “Nourrir le Cœur du Hainaut”.
URL:https://hainaut-terredegouts.be/evenement/cest-quoi-lalimentation-intuitive-atelier/
LOCATION:La Maison Folie\, Rue des Arbalestriers 8\, MONS\, 7000\, Belgium
CATEGORIES:Atelier(s) créatif(s)
ATTACH;FMTTYPE=image/png:https://hainaut-terredegouts.be/wp-content/uploads/2023/10/19-1-Alimentation-intuitive.png
ORGANIZER;CN="Aktina asbl":MAILTO:cedric@aktina.be
END:VEVENT
BEGIN:VEVENT
DTSTART;TZID=Europe/Brussels:20231019T133000
DTEND;TZID=Europe/Brussels:20231019T150000
DTSTAMP:20260425T180358
CREATED:20231003T094128Z
LAST-MODIFIED:20231003T094147Z
UID:105225-1697722200-1697727600@hainaut-terredegouts.be
SUMMARY:Décrypter les étiquettes alimentaires en 1 clic avec l’application Batra
DESCRIPTION:Dans cet atelier\, nous passerons en revue l’art de décrypter le vrai du faux des étiquettes des produits alimentaires et répondrons à la question: “Comment se repérer dans cet univers rempli d’informations avec sens ?”  \n\n\n\n \n\n\n\nAutre atelier prévu de 15h30 à 17h00. \n\n\n\n \n\n\n\nConditions de participation à l’activité : \n\n\n\nParticipation gratuite. Sur inscription\, via www.aktina.be  \n\n\n\n \n\n\n\nInformations : \n\n\n\nAktina asbl \n\n\n\nCédric LIONNET \n\n\n\nMail : cedric@aktina.be \n\n\n\nTél. : +32 (0)495 511 896 \n\n\n\n \n\n\n\nCette activité s’inscrit dans le cadre du Festival “Nourrir le Cœur du Hainaut”.
URL:https://hainaut-terredegouts.be/evenement/decrypter-les-etiquettes-alimentaires-en-1-clic-avec-lapplication-batra/
LOCATION:La Maison Folie\, Rue des Arbalestriers 8\, MONS\, 7000\, Belgium
CATEGORIES:Atelier(s) créatif(s)
ATTACH;FMTTYPE=image/jpeg:https://hainaut-terredegouts.be/wp-content/uploads/2023/10/19-2-Decrypter-les-etiquettes-1980x1320-1.jpeg
ORGANIZER;CN="Aktina asbl":MAILTO:cedric@aktina.be
END:VEVENT
BEGIN:VEVENT
DTSTART;TZID=Europe/Brussels:20231021T090000
DTEND;TZID=Europe/Brussels:20231021T160000
DTSTAMP:20260425T180358
CREATED:20231003T104221Z
LAST-MODIFIED:20231003T104240Z
UID:105228-1697878800-1697904000@hainaut-terredegouts.be
SUMMARY:La puissance de l’agir collectif - Atelier
DESCRIPTION:Vous êtes un.e citoyen.ne engagé.e dans la transition alimentaire dans la Région de Mons-Borinage et/ou du Centre ? Cet atelier est fait pour vous ! \n\n\n\n \n\n\n\nAvec l’alimentation & l’agriculture comme porte d’entrée\, l’outil “Potentia” vous permet de renforcer votre compréhension et votre perception des initiatives citoyennes porteuses de changement social : GASAP\, Field Liberation Movement\, Terre en vue… Endossez votre ‘rôle’\, relevez les différents défis et découvrez les enjeux liés à votre mouvement citoyen ! \n\n\n\n \n\n\n\nQuelle sera votre stratégie ? Avec qui allez-vous vous mettre en réseau? Auriez-vous un impact au niveau local ou global ?… Avec POTENTIA\, redonnons une place aux “alternatives”\, pour les questionner\, se les approprier\, les confronter à la réalité ! \n\n\n\n \n\n\n\nAu-delà des apprentissages et du partage d’expériences\, cet atelier est aussi une occasion de rencontrer d’autres citoyens engagés près de chez vous. \n\n\n\n \n\n\n\nConditions de participation à l’activité : \n\n\n\nEntre min. 10 et max. 16 participants. Participation gratuite (lunch offert)\, mais inscription obligatoire\, avant le 10 octobre 2023 ici : https://ad-coeurduhainaut.be/evenement/potentia/ \n\n\n\n \n\n\n\nInformations : \n\n\n\nProvince de Hainaut – Hainaut Développement \n\n\n\nCatherine COLLIE – Chargée de mission territoriale \n\n\n\nMail: catherine.collie@hainaut.be \n\n\n\nTél.: +32 65 342 598 \n\n\n\n \n\n\n\nCette activité s’inscrit dans le cadre du Festival “Nourrir le Cœur du Hainaut.”
URL:https://hainaut-terredegouts.be/evenement/la-puissance-de-lagir-collectif-atelier/
LOCATION:Zwarte Biquette\, Rue de Taisnières 53\, FRAMERIES\, 7080\, Belgium
CATEGORIES:Atelier(s) créatif(s)
ATTACH;FMTTYPE=image/jpeg:https://hainaut-terredegouts.be/wp-content/uploads/2023/10/21-Atelier-citoyens-engages-telechargee-sur-Freepik-1980x1114-1.jpg
ORGANIZER;CN="Alimentation Durable au Coeur du Hainaut":MAILTO:catherine.collie@hainaut.be
END:VEVENT
BEGIN:VEVENT
DTSTART;TZID=Europe/Brussels:20231029T110000
DTEND;TZID=Europe/Brussels:20231029T143000
DTSTAMP:20260425T180358
CREATED:20231002T102638Z
LAST-MODIFIED:20231002T102648Z
UID:105164-1698577200-1698589800@hainaut-terredegouts.be
SUMMARY:Fête de la Soupe (Faites de la Soupe)
DESCRIPTION:Concours de soupe\, mise en relation des consommateurs et des acteurs de l’alimentation durable au Cœur du Hainaut. \n\n\n\nConditions de participation à l’activité :Ouvert à tous à partir de 12 ans.  \n\n\n\nMax 12 à 15 compétiteurs.Public : 50 à 70 personnes.Inscription par mail ou téléphone via les coordonnées inscrites\, ci-dessous.Evénement gratuit. Seules les consommations hors-concours seront payantes (boissons\, petite restauration). \n\n\n\nInformations :Mon Panier Local à SoigniesAnnick VINCKEMail : panierlocalSoignies@gmail.com \n\n\n\n \n\n\n\nCette activité s’inscrit dans le cadre du Festival “Nourrir le Cœur du Hainaut”.
URL:https://hainaut-terredegouts.be/evenement/fete-de-la-soupe-faites-de-la-soupe/
LOCATION:Maison de la Laïcité de Soignies\, Rue Mademoiselle Hanicq 1\, SOIGNIES\, 7060\, Belgium
CATEGORIES:Atelier(s) créatif(s)
ATTACH;FMTTYPE=image/jpeg:https://hainaut-terredegouts.be/wp-content/uploads/2023/09/AdobeStock_327340679-scaled.jpeg
ORGANIZER;CN="Mon Panier Local %C3%A0 Soignies":MAILTO:panierlocalsoignies@gmail.com
END:VEVENT
END:VCALENDAR