BEGIN:VCALENDAR
VERSION:2.0
PRODID:-//Hainaut Terre de Gouts - ECPv6.15.17.1//NONSGML v1.0//EN
CALSCALE:GREGORIAN
METHOD:PUBLISH
X-WR-CALNAME:Hainaut Terre de Gouts
X-ORIGINAL-URL:https://hainaut-terredegouts.be
X-WR-CALDESC:Évènements pour Hainaut Terre de Gouts
REFRESH-INTERVAL;VALUE=DURATION:PT1H
X-Robots-Tag:noindex
X-PUBLISHED-TTL:PT1H
BEGIN:VTIMEZONE
TZID:Europe/Brussels
BEGIN:DAYLIGHT
TZOFFSETFROM:+0100
TZOFFSETTO:+0200
TZNAME:CEST
DTSTART:20230326T010000
END:DAYLIGHT
BEGIN:STANDARD
TZOFFSETFROM:+0200
TZOFFSETTO:+0100
TZNAME:CET
DTSTART:20231029T010000
END:STANDARD
BEGIN:DAYLIGHT
TZOFFSETFROM:+0100
TZOFFSETTO:+0200
TZNAME:CEST
DTSTART:20240331T010000
END:DAYLIGHT
BEGIN:STANDARD
TZOFFSETFROM:+0200
TZOFFSETTO:+0100
TZNAME:CET
DTSTART:20241027T010000
END:STANDARD
BEGIN:DAYLIGHT
TZOFFSETFROM:+0100
TZOFFSETTO:+0200
TZNAME:CEST
DTSTART:20250330T010000
END:DAYLIGHT
BEGIN:STANDARD
TZOFFSETFROM:+0200
TZOFFSETTO:+0100
TZNAME:CET
DTSTART:20251026T010000
END:STANDARD
END:VTIMEZONE
BEGIN:VEVENT
DTSTART;TZID=Europe/Brussels:20241006T083000
DTEND;TZID=Europe/Brussels:20241006T110000
DTSTAMP:20260423T104628
CREATED:20241002T141727Z
LAST-MODIFIED:20241002T141833Z
UID:110710-1728203400-1728212400@hainaut-terredegouts.be
SUMMARY:Petit-déjeuner durable au verger du Sirieu
DESCRIPTION:Dans un cadre bucolique\, à l’abri de tonnelles\, le verger du Sirieu vous accueillera pour découvrir des produits de qualité\, goûteux à souhait.  \n\n\n\n \n\n\n\nPour ceux qui le souhaitent\, différentes animations de sensibilisation seront proposées (visite du verger\, composition d’un petit déjeuner équilibré…).
URL:https://hainaut-terredegouts.be/evenement/petit-dejeuner-durable-au-verger-du-sirieu/
LOCATION:Verger du Sirieu\, Rue des Clochettes 11\, THIEUSIES\, 7061\, Belgium
CATEGORIES:Visite(s),Atelier(s) créatif(s),Repas | Banquet | Brunch
ATTACH;FMTTYPE=image/jpeg:https://hainaut-terredegouts.be/wp-content/uploads/2024/10/12.-Le-6-Quelques-varietes-1980x644-1.jpg
ORGANIZER;CN="Hainaut D%C3%A9veloppement":MAILTO:info@hainaut-developpement.be
END:VEVENT
END:VCALENDAR