BEGIN:VCALENDAR
VERSION:2.0
PRODID:-//Hainaut Terre de Gouts - ECPv6.15.17.1//NONSGML v1.0//EN
CALSCALE:GREGORIAN
METHOD:PUBLISH
X-ORIGINAL-URL:https://hainaut-terredegouts.be
X-WR-CALDESC:Évènements pour Hainaut Terre de Gouts
REFRESH-INTERVAL;VALUE=DURATION:PT1H
X-Robots-Tag:noindex
X-PUBLISHED-TTL:PT1H
BEGIN:VTIMEZONE
TZID:Europe/Brussels
BEGIN:DAYLIGHT
TZOFFSETFROM:+0100
TZOFFSETTO:+0200
TZNAME:CEST
DTSTART:20250330T010000
END:DAYLIGHT
BEGIN:STANDARD
TZOFFSETFROM:+0200
TZOFFSETTO:+0100
TZNAME:CET
DTSTART:20251026T010000
END:STANDARD
BEGIN:DAYLIGHT
TZOFFSETFROM:+0100
TZOFFSETTO:+0200
TZNAME:CEST
DTSTART:20260329T010000
END:DAYLIGHT
BEGIN:STANDARD
TZOFFSETFROM:+0200
TZOFFSETTO:+0100
TZNAME:CET
DTSTART:20261025T010000
END:STANDARD
BEGIN:DAYLIGHT
TZOFFSETFROM:+0100
TZOFFSETTO:+0200
TZNAME:CEST
DTSTART:20270328T010000
END:DAYLIGHT
BEGIN:STANDARD
TZOFFSETFROM:+0200
TZOFFSETTO:+0100
TZNAME:CET
DTSTART:20271031T010000
END:STANDARD
END:VTIMEZONE
BEGIN:VEVENT
DTSTART;TZID=Europe/Brussels:20261012T100000
DTEND;TZID=Europe/Brussels:20261012T170000
DTSTAMP:20260423T115707
CREATED:20260121T124614Z
LAST-MODIFIED:20260121T125647Z
UID:117756-1791799200-1791824400@hainaut-terredegouts.be
SUMMARY:Premier concours « Vins du Hainaut » 2026
DESCRIPTION:Événement inédit\, le tout premier concours de vins organisé en Province de Hainaut marquera une étape importante dans la reconnaissance du savoir-faire viticole local\, en plein essor ces dernières années. \n\n\n\n \n\n\n\nL’épreuve se tiendra à l’IPES ATH\, section hôtellerie. \n\n\n\n \n\n\n\nCe concours ambitionne de mettre en valeur la diversité\, la qualité et le potentiel des vins hainuyers auprès des professionnels du secteur\, mais aussi du grand public. \n\n\n\n \n\n\n\nCatégories en concours :\n\n\n\n\nVin blanc\n\n\n\nVin rouge\n\n\n\nVin effervescent\n\n\n\n\n \n\n\n\nLes dégustations se dérouleront à l’aveugle\, selon des standards professionnels\, garantissant une évaluation objective et qualitative des vins présentés.
URL:https://hainaut-terredegouts.be/evenement/premier-concours-vins-du-hainaut-2026/
LOCATION:IPES Ath\, Rue Paul Pastur 11\, ATH\, 7800\, Belgium
CATEGORIES:Concours
ATTACH;FMTTYPE=image/jpeg:https://hainaut-terredegouts.be/wp-content/uploads/2021/11/shutterstock_391495360.jpg
ORGANIZER;CN="Hainaut D%C3%A9veloppement":MAILTO:info@hainaut-developpement.be
END:VEVENT
END:VCALENDAR