BEGIN:VCALENDAR
VERSION:2.0
PRODID:-//Hainaut Terre de Gouts - ECPv6.15.17.1//NONSGML v1.0//EN
CALSCALE:GREGORIAN
METHOD:PUBLISH
X-ORIGINAL-URL:https://hainaut-terredegouts.be
X-WR-CALDESC:Évènements pour Hainaut Terre de Gouts
REFRESH-INTERVAL;VALUE=DURATION:PT1H
X-Robots-Tag:noindex
X-PUBLISHED-TTL:PT1H
BEGIN:VTIMEZONE
TZID:Europe/Brussels
BEGIN:DAYLIGHT
TZOFFSETFROM:+0100
TZOFFSETTO:+0200
TZNAME:CEST
DTSTART:20240331T010000
END:DAYLIGHT
BEGIN:STANDARD
TZOFFSETFROM:+0200
TZOFFSETTO:+0100
TZNAME:CET
DTSTART:20241027T010000
END:STANDARD
BEGIN:DAYLIGHT
TZOFFSETFROM:+0100
TZOFFSETTO:+0200
TZNAME:CEST
DTSTART:20250330T010000
END:DAYLIGHT
BEGIN:STANDARD
TZOFFSETFROM:+0200
TZOFFSETTO:+0100
TZNAME:CET
DTSTART:20251026T010000
END:STANDARD
BEGIN:DAYLIGHT
TZOFFSETFROM:+0100
TZOFFSETTO:+0200
TZNAME:CEST
DTSTART:20260329T010000
END:DAYLIGHT
BEGIN:STANDARD
TZOFFSETFROM:+0200
TZOFFSETTO:+0100
TZNAME:CET
DTSTART:20261025T010000
END:STANDARD
END:VTIMEZONE
BEGIN:VEVENT
DTSTART;TZID=Europe/Brussels:20250501T080000
DTEND;TZID=Europe/Brussels:20250531T170000
DTSTAMP:20260426T013909
CREATED:20241212T144919Z
LAST-MODIFIED:20250121T112559Z
UID:111380-1746086400-1748710800@hainaut-terredegouts.be
SUMMARY:Rendez-vous en terre agricole 2025
DESCRIPTION:Dans le cadre de ses activités d’encadrement et de soutien des agriculteurs\, la Province de Hainaut- Hainaut Développement organise les « Rendez-vous en terre agricole » du 1er au 31 mai 2025 sur l’ensemble du territoire hainuyer. \n\n\n\n \n\n\n\nPour cette cinquième édition\, Hainaut Développement s’est fixé pour objectif de favoriser l’image de marque et les savoir-faire en agriculture. \n\n\n\n \n\n\n\nPlus d’informations ici.
URL:https://hainaut-terredegouts.be/evenement/rendez-vous-en-terre-agricole-2025/
LOCATION:Hainaut Développement\, Parc scientifique Initialis - boulevard Initialis 22\, Mons\, 7000\, Belgium
CATEGORIES:Marché de producteurs locaux,Ballade,Séance cinéma | Théatre,Conférence(s),Visite(s),Journée portes ouvertes,Séance(s) d'information
ATTACH;FMTTYPE=image/jpeg:https://hainaut-terredegouts.be/wp-content/uploads/2024/12/shutterstock_340650272-scaled.jpg
ORGANIZER;CN="Hainaut D%C3%A9veloppement | Agriculture":MAILTO:hd.agriculture@hainaut.be
END:VEVENT
BEGIN:VEVENT
DTSTART;TZID=Europe/Brussels:20250509T133000
DTEND;TZID=Europe/Brussels:20250509T150000
DTSTAMP:20260426T013909
CREATED:20250430T071638Z
LAST-MODIFIED:20250430T071802Z
UID:113620-1746797400-1746802800@hainaut-terredegouts.be
SUMMARY:Journée de l’Europe : mobilisation citoyenne et échanges avec nos députés européens
DESCRIPTION:Dans le cadre de la journée de l’Europe qui aura lieu le 9 mai\, EUROPE DIRECT Hainaut\, en partenariat avec la commune de Frameries\, organise une rencontre citoyenne avec l’Eurodéputée Saskia BRICMONT. \n\n\n\n \n\n\n\nEn matinée\, Madame Bricmont vivra une expérience de “Vis-ma-vie” auprès d’un agriculteur de la commune et lui permettra de s’essayer\, le temps d’une matinée au métier d’agricultrice. \n\n\n\n \n\n\n\nDès 13h30\, les citoyens seront accueillis dans les locaux de l’atelier théâtre La Zwarte Biquette\, 53 rue de Taisnière à Sars-ma-Bruyère pour une rencontre avec l’Eurodéputée afin d’échanger sur des thématiques européennes liées au monde agricole.  \n\n\n\n \n\n\n\nCette rencontre sera accompagnée d’une dégustation de produits locaux. \n\n\n\n \n\n\n\nHoraires : de 13h30 à 15h : Rencontre citoyenne
URL:https://hainaut-terredegouts.be/evenement/journee-de-leurope-mobilisation-citoyenne-et-echanges-avec-nos-deputes-europeens/
LOCATION:Zwarte Biquette\, Rue de Taisnières 53\, FRAMERIES\, 7080\, Belgium
CATEGORIES:Réunion(s),Dégustation,Conférence(s)
ATTACH;FMTTYPE=image/jpeg:https://hainaut-terredegouts.be/wp-content/uploads/2025/04/Journee_europe-Moyenne.jpeg
ORGANIZER;CN="Europe Direct":MAILTO:europe.direct@hainaut.be
END:VEVENT
END:VCALENDAR