BEGIN:VCALENDAR
VERSION:2.0
PRODID:-//Hainaut Terre de Gouts - ECPv6.15.17.1//NONSGML v1.0//EN
CALSCALE:GREGORIAN
METHOD:PUBLISH
X-ORIGINAL-URL:https://hainaut-terredegouts.be
X-WR-CALDESC:Évènements pour Hainaut Terre de Gouts
REFRESH-INTERVAL;VALUE=DURATION:PT1H
X-Robots-Tag:noindex
X-PUBLISHED-TTL:PT1H
BEGIN:VTIMEZONE
TZID:Europe/Brussels
BEGIN:DAYLIGHT
TZOFFSETFROM:+0100
TZOFFSETTO:+0200
TZNAME:CEST
DTSTART:20230326T010000
END:DAYLIGHT
BEGIN:STANDARD
TZOFFSETFROM:+0200
TZOFFSETTO:+0100
TZNAME:CET
DTSTART:20231029T010000
END:STANDARD
BEGIN:DAYLIGHT
TZOFFSETFROM:+0100
TZOFFSETTO:+0200
TZNAME:CEST
DTSTART:20240331T010000
END:DAYLIGHT
BEGIN:STANDARD
TZOFFSETFROM:+0200
TZOFFSETTO:+0100
TZNAME:CET
DTSTART:20241027T010000
END:STANDARD
BEGIN:DAYLIGHT
TZOFFSETFROM:+0100
TZOFFSETTO:+0200
TZNAME:CEST
DTSTART:20250330T010000
END:DAYLIGHT
BEGIN:STANDARD
TZOFFSETFROM:+0200
TZOFFSETTO:+0100
TZNAME:CET
DTSTART:20251026T010000
END:STANDARD
END:VTIMEZONE
BEGIN:VEVENT
DTSTART;TZID=Europe/Brussels:20240621T093000
DTEND;TZID=Europe/Brussels:20240621T170000
DTSTAMP:20260425T194729
CREATED:20240514T103742Z
LAST-MODIFIED:20240514T104106Z
UID:108837-1718962200-1718989200@hainaut-terredegouts.be
SUMMARY:Concours de bières de la province du Hainaut | 4ème édition
DESCRIPTION:Pour la quatrième année consécutive\, la Province de Hainaut | Hainaut Développement organisera son Concours mettant ainsi en lumière un des produits emblématiques de la Belgique : la bière ! \n\n\n\n \n\n\n\nCe concours s’inscrit dans le cadre des missions de promotion des savoir-faire agroalimentaires de Hainaut Développement. \n\n\n\n \n\n\n\nLes bières participantes seront jugées le vendredi 21 juin 2024 au « Relais de la Haute Sambre » à Lobbes. \n\n\n\n \n\n\n\nCette année\, ce concours concernera uniquement les trois catégories suivantes : \n\n\n\n \n\n\n\n\nInnovation: IPA : fermentations hautes\, refermentations en bouteille\, teneur en alcool 7-10% vol\, dorée à cuivrée\, claire à légèrement trouble\, au nez houblonne\, goût houblonné/amer\, coloration 6-30 EBC\, amertume 35-70 EBU.\n\n\n\nBières brunes : fermentations hautes ou mixtes (de type Rouge flamande) avec une semaine de garde minimum\, refermentations en bouteille ou en fût. Teneur en alcool minimum 6-10%. IBU entre 10 et 20. Coloration entre 45 à 75 EBC : cuivrée sombre/brune. Amertume entre 10 et 20 EBU. Les bières vieillies en barriques de vin ou d’alcool sont exclues.\n\n\n\nBières Type Saison : fermentations hautes ou mixtes avec une semaine de garde minimum\, refermentation en bouteille ou en fût est obligatoire. Teneur en alcool maximum 7%. Couleur blonde à ambrée avec turbidité acceptée; maximum 35 EBC; amertume: entre 20 et 45 EBU.\n\n\n\n\n \n\n\n\nLa remise des prix du concours dans les différents catégories aura lieu sous forme d’une conférence de presse à une date ultérieure qui reste à préciser. Toutes les informations relatives aux différents lauréats seront communiquées en temps opportun au travers des médias de Hainaut Développement. \n\n\n\n \n\n\n\nPour toute information complémentaire sur ce concours\, n’hésitez pas à contacter : \n\n\n\nHainaut Développement | Romano CAVALIERE \n\n\n\nPar téléphone : au +32 65 342 609 \n\n\n\nPar Courriel : romano.cavaliere@hainaut.be
URL:https://hainaut-terredegouts.be/evenement/concours-de-bieres-de-la-province-du-hainaut-4eme-edition/
LOCATION:Relais de la Haute Sambre\, Rue de la Font Pépin 12\, Lobbes\, 6540\, Belgium
CATEGORIES:Dégustation,Concours
ATTACH;FMTTYPE=image/jpeg:https://hainaut-terredegouts.be/wp-content/uploads/2024/05/Concours-bieres-du-Hainaut-2021-8.jpg
ORGANIZER;CN="Hainaut D%C3%A9veloppement":MAILTO:info@hainaut-developpement.be
END:VEVENT
END:VCALENDAR