BEGIN:VCALENDAR
VERSION:2.0
PRODID:-//Hainaut Terre de Gouts - ECPv6.15.17.1//NONSGML v1.0//EN
CALSCALE:GREGORIAN
METHOD:PUBLISH
X-WR-CALNAME:Hainaut Terre de Gouts
X-ORIGINAL-URL:https://hainaut-terredegouts.be
X-WR-CALDESC:Évènements pour Hainaut Terre de Gouts
REFRESH-INTERVAL;VALUE=DURATION:PT1H
X-Robots-Tag:noindex
X-PUBLISHED-TTL:PT1H
BEGIN:VTIMEZONE
TZID:Europe/Brussels
BEGIN:DAYLIGHT
TZOFFSETFROM:+0100
TZOFFSETTO:+0200
TZNAME:CEST
DTSTART:20220327T010000
END:DAYLIGHT
BEGIN:STANDARD
TZOFFSETFROM:+0200
TZOFFSETTO:+0100
TZNAME:CET
DTSTART:20221030T010000
END:STANDARD
BEGIN:DAYLIGHT
TZOFFSETFROM:+0100
TZOFFSETTO:+0200
TZNAME:CEST
DTSTART:20230326T010000
END:DAYLIGHT
BEGIN:STANDARD
TZOFFSETFROM:+0200
TZOFFSETTO:+0100
TZNAME:CET
DTSTART:20231029T010000
END:STANDARD
BEGIN:DAYLIGHT
TZOFFSETFROM:+0100
TZOFFSETTO:+0200
TZNAME:CEST
DTSTART:20240331T010000
END:DAYLIGHT
BEGIN:STANDARD
TZOFFSETFROM:+0200
TZOFFSETTO:+0100
TZNAME:CET
DTSTART:20241027T010000
END:STANDARD
END:VTIMEZONE
BEGIN:VEVENT
DTSTART;TZID=Europe/Brussels:20231007T150000
DTEND;TZID=Europe/Brussels:20231007T190000
DTSTAMP:20260425T175242
CREATED:20230928T143928Z
LAST-MODIFIED:20230928T143932Z
UID:105069-1696690800-1696705200@hainaut-terredegouts.be
SUMMARY:Marché des Producteurs locaux et Productrices locales
DESCRIPTION:Marché soutenant les producteurs de la région\, favorisant le circuit court et l’alimentation durable. \n\n\n\n \n\n\n\nConditions de participation à l’activité: \n\n\n\nTout public\, pas d’inscription\, gratuit. \n\n\n\n \n\n\n\nInformations : \n\n\n\nHenrichamps asbl \n\n\n\nDavid BRISME \n\n\n\nMail : asbl.henrichamps@gmail.com \n\n\n\nTél.: +32 64 518 219 \n\n\n\n \n\n\n\nCe marché s’inscrit dans le cadre du Festival “Nourrir le Cœur du Hainaut.” Il a également lieu les 14\, 21 et 28 octobre 2023.
URL:https://hainaut-terredegouts.be/evenement/marche-des-producteurs-locaux-et-productrices-locales/
CATEGORIES:Marché de producteurs locaux
ATTACH;FMTTYPE=image/jpeg:https://hainaut-terredegouts.be/wp-content/uploads/2023/09/1tW_MgwP.jpeg
END:VEVENT
BEGIN:VEVENT
DTSTART;TZID=Europe/Brussels:20231008T100000
DTEND;TZID=Europe/Brussels:20231008T170000
DTSTAMP:20260425T175242
CREATED:20230929T065352Z
LAST-MODIFIED:20230929T065356Z
UID:105077-1696759200-1696784400@hainaut-terredegouts.be
SUMMARY:3ème marché des producteurs locaux de la Journée Santé\, Sport et Bien-être
DESCRIPTION:Trois activités majeures constituent les piliers de cette journée dédiée à la santé: le marché des producteurs locaux\, la fête de la soupe ainsi que la promotion de la santé du sport et du bien-être par le biais de dépistages gratuits et d’ateliers variés. \n\n\n\n \n\n\n\nDeux nouveautés en 2023 : \n\n\n\n\nde 10h à 16h: réalisation d’une fresque participative sur l’alimentation durable\n\n\n\n\n\nde 10h30 à 13h30: démonstration culinaire au sein du marché\n\n\n\n\n \n\n\n\nA 10 heures\, une balade-découverte des plantes sauvages comestibles vous est également proposée. Plus d’infos. \n\n\n\n \n\n\n\nConditions de participation à l’activité : \n\n\n\nActivité gratuite accessible à tous en continu\, de 10h00 à 17h00. \n\n\n\n \n\n\n\nInformations : \n\n\n\nCommune de Seneffe \n\n\n\nMail : commerce@seneffe.be / Tél.: +32 64 521 730 \n\n\n\n \n\n\n\nCe marché s’inscrit dans le cadre du Festival “Nourrir le Cœur du Hainaut.”
URL:https://hainaut-terredegouts.be/evenement/3eme-marche-des-producteurs-locaux-de-la-journee-sante-sport-et-bien-etre/
LOCATION:Place Penne d’Agenais 12 Seneffe\, Hainaut 7180 Belgique\, Place Penne d’Agenais 12\, Seneffe\, 7180\, Belgium
CATEGORIES:Marché de producteurs locaux
ATTACH;FMTTYPE=image/jpeg:https://hainaut-terredegouts.be/wp-content/uploads/2023/09/8-1-Marche-Seneffe-scaled-1.jpeg
ORGANIZER;CN="Commune de Seneffe":MAILTO:commune@seneffe.be
END:VEVENT
BEGIN:VEVENT
DTSTART;TZID=Europe/Brussels:20231009T180000
DTEND;TZID=Europe/Brussels:20231009T203000
DTSTAMP:20260425T175242
CREATED:20230929T074012Z
LAST-MODIFIED:20230929T074017Z
UID:105090-1696874400-1696883400@hainaut-terredegouts.be
SUMMARY:Marché des producteurs locaux de Manage
DESCRIPTION:Marché de producteurs locaux\, organisé tous les 2èmes lundis du mois (20 artisans locaux). \n\n\n\n \n\n\n\nConditions de participation à l’activité : \n\n\n\nEntrée gratuite – Ouvert à tous. \n\n\n\nDégustation et restauration. \n\n\n\n \n\n\n\nInformations : \n\n\n\nVille de Manage \n\n\n\nGiovanna RICCIARDONE \n\n\n\nMail : giovanna.ricciardone@manage-commune.be \n\n\n\nTél.: +32 64 518 219 \n\n\n\n \n\n\n\nCe marché s’inscrit dans le cadre du Festival “Nourrir le Cœur du Hainaut.”
URL:https://hainaut-terredegouts.be/evenement/marche-des-producteurs-locaux-de-manage/
LOCATION:Salle Arthur Haulot Place Edouard Bantigny MANAGE\, Hainaut 7170 Belgique\, Place Edouard Bantigny\, MANAGE\, 7170\, Belgium
CATEGORIES:Marché de producteurs locaux
ATTACH;FMTTYPE=image/jpeg:https://hainaut-terredegouts.be/wp-content/uploads/2023/09/zoFoX4GE-724x1024-1.jpeg
ORGANIZER;CN="Commune de Manage":MAILTO:info@manage-commune.be
END:VEVENT
BEGIN:VEVENT
DTSTART;TZID=Europe/Brussels:20231013T170000
DTEND;TZID=Europe/Brussels:20231013T200000
DTSTAMP:20260425T175242
CREATED:20230929T082327Z
LAST-MODIFIED:20230929T082332Z
UID:105109-1697216400-1697227200@hainaut-terredegouts.be
SUMMARY:La Halle aux saveurs et dégustation de produits équitables
DESCRIPTION:Pour l’occasion\, la Halle aux saveurs – marché de producteurs locaux – permettra également de découvrir les produits équitables issus des relations “Nord-Sud” grâce au stand qui sera tenu par Oxfam Magasins du Monde. \n\n\n\n \n\n\n\nDes animations diverses viendront égayer l’événement et des dégustations seront proposées par Oxfam. \n\n\n\n \n\n\n\nUn concours vous permettra de remporter un magnifique panier garni de produits locaux et équitables! \n\n\n\n \n\n\n\nConditions de participation à l’activité: \n\n\n\nOuvert à tous.tes ! \n\n\n\n \n\n\n\nInformations : \n\n\n\nVille de Soignies en collaboration avec l’ADL de Soignies \n\n\n\nMail : info@soignies.be / Tél.: +32 67 347 382 \n\n\n\n \n\n\n\nCe marché s’inscrit dans le cadre du Festival “Nourrir le Cœur du Hainaut”.
URL:https://hainaut-terredegouts.be/evenement/la-halle-aux-saveurs-et-degustation-de-produits-equitables/
LOCATION:Place Van Zeeland Place Van Zeeland Soignies\, Hainaut 7060\, Place Van Zeeland\, Soignies\, 7060\, Belgium
CATEGORIES:Marché de producteurs locaux
ATTACH;FMTTYPE=image/jpeg:https://hainaut-terredegouts.be/wp-content/uploads/2023/09/CHANGEMENT-13-Halles-aux-Saveurs-1980x1115-1.jpg
ORGANIZER;CN="Ville de Soignies - Service des Affaires Economiques":MAILTO:info@soignies.be
END:VEVENT
BEGIN:VEVENT
DTSTART;TZID=Europe/Brussels:20231014T150000
DTEND;TZID=Europe/Brussels:20231014T190000
DTSTAMP:20260425T175242
CREATED:20230929T094127Z
LAST-MODIFIED:20230929T094130Z
UID:105130-1697295600-1697310000@hainaut-terredegouts.be
SUMMARY:Marché des Producteurs locaux et Productrices locales (Braine-le-Comte)
DESCRIPTION:Marché soutenant les producteurs de la région\, favorisant le circuit court et l’alimentation durable. \n\n\n\nConditions de participation à l’activité :Tout public\, pas d’inscription\, gratuit \n\n\n\nInformations :Henrichamps asblDavid BRISMEMail : asbl.henrichamps@gmail.com / Tél.: +32 64 518 219 \n\n\n\n \n\n\n\nCe marché s’inscrit dans le cadre du Festival “Nourrir le Cœur du Hainaut.” Il a également lieu les 7\, 21 et 28 octobre 2023.
URL:https://hainaut-terredegouts.be/evenement/marche-des-producteurs-locaux-et-productrices-locales-braine-le-comte/
LOCATION:Pace Aviateur Jean Croquet 7090 Braine-le-Comte\, Pace Aviateur Jean Croquet\, Braine-le-Comte\, 7090\, Belgium
CATEGORIES:Marché de producteurs locaux
ATTACH;FMTTYPE=image/jpeg:https://hainaut-terredegouts.be/wp-content/uploads/2023/09/1tW_MgwP-1.jpeg
ORGANIZER;CN="Henrichamps asbl":MAILTO:asbl.henrichamps@gmail.com
END:VEVENT
BEGIN:VEVENT
DTSTART;TZID=Europe/Brussels:20231021T150000
DTEND;TZID=Europe/Brussels:20231021T190000
DTSTAMP:20260425T175242
CREATED:20231002T092759Z
LAST-MODIFIED:20231002T100243Z
UID:105150-1697900400-1697914800@hainaut-terredegouts.be
SUMMARY:Marché des Producteurs locaux et Productrices locales Henripont
DESCRIPTION:Marché soutenant les producteurs de la région\, favorisant le circuit court et l’alimentation durable. \n\n\n\n \n\n\n\nConditions de participation à l’activité : \n\n\n\nTout public\, pas d’inscription\, gratuit \n\n\n\n \n\n\n\nInformations : \n\n\n\nHenrichamps asbl \n\n\n\nDavid BRISME \n\n\n\nMail : asbl.henrichamps@gmail.com \n\n\n\nTél.: +32 (0)64 518 219 \n\n\n\n \n\n\n\nCe marché s’inscrit dans le cadre du Festival “Nourrir le Cœur du Hainaut.” Il a également lieu les 7\, 14 et 28 octobre 2023.
URL:https://hainaut-terredegouts.be/evenement/marche-des-producteurs-locaux-et-productrices-locales-henrichamps/
LOCATION:Place Aviateur Jean Croquet\, Place Aviateur Jean Croquet\, Henripont\, 7090\, Belgium
CATEGORIES:Marché de producteurs locaux
ATTACH;FMTTYPE=image/jpeg:https://hainaut-terredegouts.be/wp-content/uploads/2023/09/1tW_MgwP-1.jpeg
END:VEVENT
BEGIN:VEVENT
DTSTART;TZID=Europe/Brussels:20231028T150000
DTEND;TZID=Europe/Brussels:20231028T190000
DTSTAMP:20260425T175242
CREATED:20231002T095422Z
LAST-MODIFIED:20231002T095430Z
UID:105157-1698505200-1698519600@hainaut-terredegouts.be
SUMMARY:Marché des Producteurs locaux et Productrices locales Henripont
DESCRIPTION:Marché soutenant les producteurs de la région\, favorisant le circuit court et l’alimentation durable. \n\n\n\nConditions de participation à l’activité :Tout public\, pas d’inscription\, gratuit. \n\n\n\nInformations :Henrichamps asblDavid BRISMEMail : asbl.henrichamps@gmail.com / Tél.: +32 64 518 219 \n\n\n\nCe marché s’inscrit dans le cadre du Festival “Nourrir le Cœur du Hainaut.” Il a également lieu les 7\, 14 et 21 octobre 2023.
URL:https://hainaut-terredegouts.be/evenement/marche-des-producteurs-locaux-et-productrices-locales-henripont/
LOCATION:Place Aviateur Jean Croquet\, Place Aviateur Jean Croquet\, Henripont\, 7090\, Belgium
CATEGORIES:Marché de producteurs locaux
ATTACH;FMTTYPE=image/jpeg:https://hainaut-terredegouts.be/wp-content/uploads/2023/09/1tW_MgwP-1.jpeg
ORGANIZER;CN="Henrichamps asbl":MAILTO:asbl.henrichamps@gmail.com
END:VEVENT
END:VCALENDAR