BEGIN:VCALENDAR
VERSION:2.0
PRODID:-//Hainaut Terre de Gouts - ECPv6.15.17.1//NONSGML v1.0//EN
CALSCALE:GREGORIAN
METHOD:PUBLISH
X-ORIGINAL-URL:https://hainaut-terredegouts.be
X-WR-CALDESC:Évènements pour Hainaut Terre de Gouts
REFRESH-INTERVAL;VALUE=DURATION:PT1H
X-Robots-Tag:noindex
X-PUBLISHED-TTL:PT1H
BEGIN:VTIMEZONE
TZID:Europe/Brussels
BEGIN:DAYLIGHT
TZOFFSETFROM:+0100
TZOFFSETTO:+0200
TZNAME:CEST
DTSTART:20220327T010000
END:DAYLIGHT
BEGIN:STANDARD
TZOFFSETFROM:+0200
TZOFFSETTO:+0100
TZNAME:CET
DTSTART:20221030T010000
END:STANDARD
BEGIN:DAYLIGHT
TZOFFSETFROM:+0100
TZOFFSETTO:+0200
TZNAME:CEST
DTSTART:20230326T010000
END:DAYLIGHT
BEGIN:STANDARD
TZOFFSETFROM:+0200
TZOFFSETTO:+0100
TZNAME:CET
DTSTART:20231029T010000
END:STANDARD
BEGIN:DAYLIGHT
TZOFFSETFROM:+0100
TZOFFSETTO:+0200
TZNAME:CEST
DTSTART:20240331T010000
END:DAYLIGHT
BEGIN:STANDARD
TZOFFSETFROM:+0200
TZOFFSETTO:+0100
TZNAME:CET
DTSTART:20241027T010000
END:STANDARD
END:VTIMEZONE
BEGIN:VEVENT
DTSTART;TZID=Europe/Brussels:20231126T100000
DTEND;TZID=Europe/Brussels:20231126T170000
DTSTAMP:20260425T160805
CREATED:20231025T144051Z
LAST-MODIFIED:20231025T144055Z
UID:105498-1700992800-1701018000@hainaut-terredegouts.be
SUMMARY:Journée de l’Arbre et des Saveurs locales | Edition 2023
DESCRIPTION:Vous le savez peut-être déjà\, Hainaut Développement organisera à nouveau sa traditionnelle « Journée de l’Arbre et des Saveurs locales » le dimanche 26 novembre prochain. \n\n\n\n \n\n\n\nIl s’agira ainsi de la 10ème édition de cet évènement populaire et festif qui a été organisé pour la toute première fois en 2013\, pour les 10 ans de Hainaut Développement. Aujourd’hui\, nous célébrons le 20ème anniversaire de Hainaut Développement en cette année 2023. Pour cette belle occasion\, le programme proposé sera encore plus varié et intéressant ! \n\n\n\n \n\n\n\nComme chaque année\, une multitudes d’activités seront organisées tant pour les petits que pour les plus grands : distribution gratuite de plants d’arbres\, marchés des producteurs locaux (20 stands)\, ateliers pour enfants sur la biodiversité\, animation pédagogique sur les insectes\, sensibilisation à l’alimentation durable\, expérience à 360° avec casque de réalité virtuelle\, espace d’information sur l’Europe\, activités ludiques et sportives dans le Game Truck de l’Observatoire de la Santé de la Province de Hainaut\, Bar et petite restauration proposée par les producteurs locaux…
URL:https://hainaut-terredegouts.be/evenement/journee-de-larbre-et-des-saveurs-locales-edition-2023/
LOCATION:Hainaut Développement\, Parc scientifique Initialis - boulevard Initialis 22\, Mons\, 7000\, Belgium
CATEGORIES:Marché de producteurs locaux,Journée portes ouvertes
ATTACH;FMTTYPE=image/jpeg:https://hainaut-terredegouts.be/wp-content/uploads/2023/10/DSC_0446.jpg
ORGANIZER;CN="Hainaut D%C3%A9veloppement":MAILTO:info@hainaut-developpement.be
END:VEVENT
END:VCALENDAR