BEGIN:VCALENDAR
VERSION:2.0
PRODID:-//Hainaut Terre de Gouts - ECPv6.15.17.1//NONSGML v1.0//EN
CALSCALE:GREGORIAN
METHOD:PUBLISH
X-WR-CALNAME:Hainaut Terre de Gouts
X-ORIGINAL-URL:https://hainaut-terredegouts.be
X-WR-CALDESC:Évènements pour Hainaut Terre de Gouts
REFRESH-INTERVAL;VALUE=DURATION:PT1H
X-Robots-Tag:noindex
X-PUBLISHED-TTL:PT1H
BEGIN:VTIMEZONE
TZID:Europe/Brussels
BEGIN:DAYLIGHT
TZOFFSETFROM:+0100
TZOFFSETTO:+0200
TZNAME:CEST
DTSTART:20230326T010000
END:DAYLIGHT
BEGIN:STANDARD
TZOFFSETFROM:+0200
TZOFFSETTO:+0100
TZNAME:CET
DTSTART:20231029T010000
END:STANDARD
BEGIN:DAYLIGHT
TZOFFSETFROM:+0100
TZOFFSETTO:+0200
TZNAME:CEST
DTSTART:20240331T010000
END:DAYLIGHT
BEGIN:STANDARD
TZOFFSETFROM:+0200
TZOFFSETTO:+0100
TZNAME:CET
DTSTART:20241027T010000
END:STANDARD
BEGIN:DAYLIGHT
TZOFFSETFROM:+0100
TZOFFSETTO:+0200
TZNAME:CEST
DTSTART:20250330T010000
END:DAYLIGHT
BEGIN:STANDARD
TZOFFSETFROM:+0200
TZOFFSETTO:+0100
TZNAME:CET
DTSTART:20251026T010000
END:STANDARD
END:VTIMEZONE
BEGIN:VEVENT
DTSTART;TZID=Europe/Brussels:20240419T093000
DTEND;TZID=Europe/Brussels:20240420T183000
DTSTAMP:20260423T192427
CREATED:20231215T112428Z
LAST-MODIFIED:20231215T112651Z
UID:106198-1713519000-1713637800@hainaut-terredegouts.be
SUMMARY:Ensemble avec les personnes extraordinaires 2024
DESCRIPTION:« ENSEMBLE AVEC LES PERSONNES EXTRAORDINAIRES » est l’un des plus important événement de sensibilisation au handicap en Wallonie qui favorise l’interactivité entre public ordinaire (valide) et extraordinaire (en situation de handicap). \n\n\n\n \n\n\n\nOrganisé par la Province de Hainaut\, il se déroule annuellement sur le site provincial de Marcinelle (Rue de la Bruyère\, 157) depuis 2008 et rassemble des milliers de personnes de tous âges\, valides et moins valides. \n\n\n\n \n\n\n\nLa 16ième édition de cet évènement se déroulera à Marcinelle sur deux jours\, les 19 et 20 avril 2024 : le vendredi 19 sera essentiellement consacré aux écoles et le samedi 20 sera plus particulièrement orienté vers le grand public (riverains\, familles\, mouvements de jeunesse\, groupements…). \n\n\n\n \n\n\n\nChaque année\, cette belle organisation réunit plus de 6.000 personnes ; 10.000 personnes en 2018\, 2019\, 2022. \n\n\n\n \n\n\n\nPlus de 60 activités sportives\, ludiques\, artistiques\, de mise en situation\, seront proposées autour d’un chapiteau principal dans lequel les spectacles s’enchaînent et avec des artistes de renom. \n\n\n\n \n\n\n\nCette année encore\, Hainaut Développement collaborera à la mise en place d’un marché de « Produits locaux » réunissant une quinzaine d’artisans/producteurs hainuyers au cœur de l’évènement. \n\n\n\n \n\n\n\nL’objectif de ce rassemblement convivial et festif a pour objectif d’encourager une cohabitation plus interactive des publics valides et en situation de handicap\, ainsi qu’une meilleure intégration sociale\, culturelle ou encore professionnelle des personnes extraordinaires. \n\n\n\n\n\n\n\nPlus d’informations sur cet évènement très prochainement !
URL:https://hainaut-terredegouts.be/evenement/ensemble-avec-les-personnes-extraordinaires-2024/
LOCATION:Province de Hainaut – Direction générale de l’Action sociale | DGAS\, Rue de la Bruyère 157\, Marcinelle\, 6001\, Belgium
CATEGORIES:Marché de producteurs locaux,Évènement(s) divers
ATTACH;FMTTYPE=image/jpeg:https://hainaut-terredegouts.be/wp-content/uploads/2023/12/Compo_1.jpg
ORGANIZER;CN="Hainaut D%C3%A9veloppement":MAILTO:info@hainaut-developpement.be
END:VEVENT
END:VCALENDAR