BEGIN:VCALENDAR
VERSION:2.0
PRODID:-//Hainaut Terre de Gouts - ECPv6.15.17.1//NONSGML v1.0//EN
CALSCALE:GREGORIAN
METHOD:PUBLISH
X-WR-CALNAME:Hainaut Terre de Gouts
X-ORIGINAL-URL:https://hainaut-terredegouts.be
X-WR-CALDESC:Évènements pour Hainaut Terre de Gouts
REFRESH-INTERVAL;VALUE=DURATION:PT1H
X-Robots-Tag:noindex
X-PUBLISHED-TTL:PT1H
BEGIN:VTIMEZONE
TZID:Europe/Brussels
BEGIN:DAYLIGHT
TZOFFSETFROM:+0100
TZOFFSETTO:+0200
TZNAME:CEST
DTSTART:20230326T010000
END:DAYLIGHT
BEGIN:STANDARD
TZOFFSETFROM:+0200
TZOFFSETTO:+0100
TZNAME:CET
DTSTART:20231029T010000
END:STANDARD
BEGIN:DAYLIGHT
TZOFFSETFROM:+0100
TZOFFSETTO:+0200
TZNAME:CEST
DTSTART:20240331T010000
END:DAYLIGHT
BEGIN:STANDARD
TZOFFSETFROM:+0200
TZOFFSETTO:+0100
TZNAME:CET
DTSTART:20241027T010000
END:STANDARD
BEGIN:DAYLIGHT
TZOFFSETFROM:+0100
TZOFFSETTO:+0200
TZNAME:CEST
DTSTART:20250330T010000
END:DAYLIGHT
BEGIN:STANDARD
TZOFFSETFROM:+0200
TZOFFSETTO:+0100
TZNAME:CET
DTSTART:20251026T010000
END:STANDARD
END:VTIMEZONE
BEGIN:VEVENT
DTSTART;TZID=Europe/Brussels:20240914T110000
DTEND;TZID=Europe/Brussels:20240915T180000
DTSTAMP:20260423T102644
CREATED:20240905T064218Z
LAST-MODIFIED:20240905T064718Z
UID:110278-1726311600-1726423200@hainaut-terredegouts.be
SUMMARY:7ème édition de la “Fête du Pain” de Gilly
DESCRIPTION:Les 14 et 15 septembre prochains\, de 11h à 18h\, se tiendra la 7ème édition de la désormais traditionnelle « Fête du Pain » de Gilly. L’évènement à lieu Place des Haies\, à 6060 Gilly. \n\n\n\n \n\n\n\nL’objectif de la fête du pain de Gilly est de promouvoir le métier et le savoir-faire du boulanger. \n\n\n\n \n\n\n\nA travers différentes démonstrations\, comme la fabrication sur place de pains artisanaux\, le CIG (Comité d’Initiatives Gilliciennes)\, en collaboration avec l’Association Royale des Patrons Boulangers Pâtissiers de Charleroi Sambre-et-Meuse et l’IETS Charleroi\, entend faire découvrir les différentes facettes d’un secteur en pénurie. \n\n\n\n \n\n\n\nLa Province de Hainaut – Hainaut Développement participera cette année encore\, à cet événement avec pour objectif de faire découvrir au public des produits locaux sélectionnés pour leur belle association avec le pain : café\, confitures\, produits laitiers\, charcuterie… \n\n\n\n \n\n\n\n8 producteurs locaux hainuyers sont ainsi invités à démontrer leur savoir-faire sur le stand collectif “Hainaut\, Terre de Goûts”.
URL:https://hainaut-terredegouts.be/evenement/7eme-edition-de-la-fete-du-pain-de-gilly/
LOCATION:Fête du Pain Gilly\, Place des Haies\, GILLY\, 6060\, Belgium
CATEGORIES:Marché de producteurs locaux,Repas | Banquet | Brunch
ATTACH;FMTTYPE=image/jpeg:https://hainaut-terredegouts.be/wp-content/uploads/2021/11/shutterstock_1821992033.jpg
ORGANIZER;CN="Hainaut D%C3%A9veloppement":MAILTO:info@hainaut-developpement.be
END:VEVENT
END:VCALENDAR