BEGIN:VCALENDAR
VERSION:2.0
PRODID:-//Hainaut Terre de Gouts - ECPv6.15.17.1//NONSGML v1.0//EN
CALSCALE:GREGORIAN
METHOD:PUBLISH
X-ORIGINAL-URL:https://hainaut-terredegouts.be
X-WR-CALDESC:Évènements pour Hainaut Terre de Gouts
REFRESH-INTERVAL;VALUE=DURATION:PT1H
X-Robots-Tag:noindex
X-PUBLISHED-TTL:PT1H
BEGIN:VTIMEZONE
TZID:Europe/Brussels
BEGIN:DAYLIGHT
TZOFFSETFROM:+0100
TZOFFSETTO:+0200
TZNAME:CEST
DTSTART:20220327T010000
END:DAYLIGHT
BEGIN:STANDARD
TZOFFSETFROM:+0200
TZOFFSETTO:+0100
TZNAME:CET
DTSTART:20221030T010000
END:STANDARD
BEGIN:DAYLIGHT
TZOFFSETFROM:+0100
TZOFFSETTO:+0200
TZNAME:CEST
DTSTART:20230326T010000
END:DAYLIGHT
BEGIN:STANDARD
TZOFFSETFROM:+0200
TZOFFSETTO:+0100
TZNAME:CET
DTSTART:20231029T010000
END:STANDARD
BEGIN:DAYLIGHT
TZOFFSETFROM:+0100
TZOFFSETTO:+0200
TZNAME:CEST
DTSTART:20240331T010000
END:DAYLIGHT
BEGIN:STANDARD
TZOFFSETFROM:+0200
TZOFFSETTO:+0100
TZNAME:CET
DTSTART:20241027T010000
END:STANDARD
END:VTIMEZONE
BEGIN:VEVENT
DTSTART;TZID=Europe/Brussels:20231014T103000
DTEND;TZID=Europe/Brussels:20231015T180000
DTSTAMP:20260425T200526
CREATED:20230905T075019Z
LAST-MODIFIED:20231009T095428Z
UID:104444-1697279400-1697392800@hainaut-terredegouts.be
SUMMARY:Salon du tourisme et des produits locaux de Koksijde
DESCRIPTION:Le traditionnel Salon du tourisme et des produits locaux de Koksijde se tiendra prochainement dans la grande salle des fêtes du Casino les 14 et 15 octobre 2023. \n\n\n\n \n\n\n\nCet évènement annuel\, ouvert au grand public\, est organisé par le Syndicat d’initiative de la Ville de Koksijde avec pour objectif de présenter une large gamme de produits régionaux et d’informations touristiques aux visiteurs de la station. \n\n\n\n \n\n\n\nDepuis plusieurs années déjà\, la Province de Hainaut est représentée sur ce salon par la Fédération provinciale du tourisme et par Hainaut Développement afin de promouvoir\, sur un stand commun\, le tourisme et les produits locaux de notre Province. \n\n\n\n \n\n\n\n\n\n\n\n \n\n\n\nQuatre producteurs du Hainaut pourront ainsi proposer durant tout ce weekend aux visiteurs présents le meilleur de vos produits de bouche à la vente directe et à emporter.  \n\n\n\n \n\n\n\n\nLES BOCAUX D’AURÉ ET GEO – Confitures\, tartinades\, pickels de fruits et légumes\, vinaigres aromatisés\, sauces…\n\n\n\nLA PETITE SAUMONERIE – Saumon fumé\, saumon gravlax à l’aneth\, au poivre\, à l’orange…\n\n\n\nCHOCOLATIER-PÂTISSIER LA BOÎTE A BONHEUR – Chocolat\, pralines\, truffes\, sujets en chocolat\, macarons…\n\n\n\nLES COLLINES DE VANESSA – Produits divers à base de mimosa : confits\, confitures\, sirops\, vinaigre\, apéritifs\, bières…\n\n\n\n\n \n\n\n\nN’hésitez pas à venir les rencontrer ! \n\n\n\n \n\n\n\nEntrée gratuite durant tout le week-end
URL:https://hainaut-terredegouts.be/evenement/salon-du-tourisme-et-des-produits-locaux-de-koksijde/
LOCATION:Centre culturel Casino Koksijde\, Casinoplein 11\, Koksijde\, 8670\, Belgium
CATEGORIES:Salon
ATTACH;FMTTYPE=image/jpeg:https://hainaut-terredegouts.be/wp-content/uploads/2023/09/streekproductenbeurs_-sof-4048.jpg
END:VEVENT
END:VCALENDAR