BEGIN:VCALENDAR
VERSION:2.0
PRODID:-//Hainaut Terre de Gouts - ECPv6.15.17.1//NONSGML v1.0//EN
CALSCALE:GREGORIAN
METHOD:PUBLISH
X-WR-CALNAME:Hainaut Terre de Gouts
X-ORIGINAL-URL:https://hainaut-terredegouts.be
X-WR-CALDESC:Évènements pour Hainaut Terre de Gouts
REFRESH-INTERVAL;VALUE=DURATION:PT1H
X-Robots-Tag:noindex
X-PUBLISHED-TTL:PT1H
BEGIN:VTIMEZONE
TZID:Europe/Brussels
BEGIN:DAYLIGHT
TZOFFSETFROM:+0100
TZOFFSETTO:+0200
TZNAME:CEST
DTSTART:20230326T010000
END:DAYLIGHT
BEGIN:STANDARD
TZOFFSETFROM:+0200
TZOFFSETTO:+0100
TZNAME:CET
DTSTART:20231029T010000
END:STANDARD
BEGIN:DAYLIGHT
TZOFFSETFROM:+0100
TZOFFSETTO:+0200
TZNAME:CEST
DTSTART:20240331T010000
END:DAYLIGHT
BEGIN:STANDARD
TZOFFSETFROM:+0200
TZOFFSETTO:+0100
TZNAME:CET
DTSTART:20241027T010000
END:STANDARD
BEGIN:DAYLIGHT
TZOFFSETFROM:+0100
TZOFFSETTO:+0200
TZNAME:CEST
DTSTART:20250330T010000
END:DAYLIGHT
BEGIN:STANDARD
TZOFFSETFROM:+0200
TZOFFSETTO:+0100
TZNAME:CET
DTSTART:20251026T010000
END:STANDARD
END:VTIMEZONE
BEGIN:VEVENT
DTSTART;TZID=Europe/Brussels:20240512T100000
DTEND;TZID=Europe/Brussels:20240512T180000
DTSTAMP:20260423T203900
CREATED:20240410T123304Z
LAST-MODIFIED:20240415T082923Z
UID:108312-1715508000-1715536800@hainaut-terredegouts.be
SUMMARY:Salon « Saveurs et Nature »
DESCRIPTION:Evénement incontournable en Wallonie picarde et à Estaimpuis\, dans le cadre des « Rendez-vous en terre agricole« \, le salon « Saveurs et Nature » vous ouvrira ses portes\, le dimanche 12 mai\, de 10h à 18h\, sur la Place des Templiers\, à Saint-Léger\, pour y rencontrer plus d’une trentaine de producteurs locaux\, artisans et associations. \n\n\n\n \n\n\n\nSous un chapiteau dressé au cœur du village\, les exposants éveilleront vos papilles gustatives avec leurs vins belges\, fromages\, confitures\, salaisons\, glaces\, fraises\, pâtisseries… et prodigueront des conseils avisés pour préserver notre patrimoine naturel. \n\n\n\n \n\n\n\nBien sûr\, en ce dimanche\, jour de la fête des mères\, les mamans ne seront pas oubliées.  \n\n\n\n \n\n\n\nDes idées de cadeaux les attendent pour (se) faire plaisir: confiseries\, savons doux et odorants\, ballotins de pralines\, tisanes… \n\n\n\n \n\n\n\nUne journée qui s’annonce donc familiale\, festive\, instructive et\, bien sûr\, gourmande !
URL:https://hainaut-terredegouts.be/evenement/salon-saveurs-et-nature/
LOCATION:Estaimpuis\, Place des Templiers\, SAINT-LEGER\, 7730\, Belgium
CATEGORIES:Marché de producteurs locaux,Salon
ATTACH;FMTTYPE=image/jpeg:https://hainaut-terredegouts.be/wp-content/uploads/2024/04/saveurs-et-nature-scaled-1.jpg
ORGANIZER;CN="PAC Estaimpuis":MAILTO:quentin.huart@pac-wapi.be
END:VEVENT
END:VCALENDAR