BEGIN:VCALENDAR
VERSION:2.0
PRODID:-//Hainaut Terre de Gouts - ECPv6.15.17.1//NONSGML v1.0//EN
CALSCALE:GREGORIAN
METHOD:PUBLISH
X-ORIGINAL-URL:https://hainaut-terredegouts.be
X-WR-CALDESC:Évènements pour Hainaut Terre de Gouts
REFRESH-INTERVAL;VALUE=DURATION:PT1H
X-Robots-Tag:noindex
X-PUBLISHED-TTL:PT1H
BEGIN:VTIMEZONE
TZID:Europe/Brussels
BEGIN:DAYLIGHT
TZOFFSETFROM:+0100
TZOFFSETTO:+0200
TZNAME:CEST
DTSTART:20230326T010000
END:DAYLIGHT
BEGIN:STANDARD
TZOFFSETFROM:+0200
TZOFFSETTO:+0100
TZNAME:CET
DTSTART:20231029T010000
END:STANDARD
BEGIN:DAYLIGHT
TZOFFSETFROM:+0100
TZOFFSETTO:+0200
TZNAME:CEST
DTSTART:20240331T010000
END:DAYLIGHT
BEGIN:STANDARD
TZOFFSETFROM:+0200
TZOFFSETTO:+0100
TZNAME:CET
DTSTART:20241027T010000
END:STANDARD
BEGIN:DAYLIGHT
TZOFFSETFROM:+0100
TZOFFSETTO:+0200
TZNAME:CEST
DTSTART:20250330T010000
END:DAYLIGHT
BEGIN:STANDARD
TZOFFSETFROM:+0200
TZOFFSETTO:+0100
TZNAME:CET
DTSTART:20251026T010000
END:STANDARD
END:VTIMEZONE
BEGIN:VEVENT
DTSTART;TZID=Europe/Brussels:20240425T180000
DTEND;TZID=Europe/Brussels:20240425T220000
DTSTAMP:20260423T095719
CREATED:20240411T062832Z
LAST-MODIFIED:20240415T080831Z
UID:108358-1714068000-1714082400@hainaut-terredegouts.be
SUMMARY:Afterwork gourmand : projection du film « La théorie du Boxeur » suivi d’une Garden Party
DESCRIPTION:Dans le cadre des « Rendez-vous en terre agricole »\, l’activité débutera par un ciné débat et se poursuivra dans la bonne humeur dans les jardins d’Hainaut Développement.\n\n\n\n \n\n\n\nDes dégustations des producteurs partenaires seront proposées\, le tout dans une ambiance jazzy.\n\n\n\nConvivialité garantie.\n\n\n\n \n\n\n\nLes excès du climat frappent de plus en plus le monde agricole.  \n\n\n\n \n\n\n\nEn 2022\, la sécheresse crée un véritable électrochoc dans la vallée de la Dôme.  \n\n\n\n \n\n\n\nNathanaël COSTE\, Géographe de formation\, enquête chez des agriculteurs pour qui le temps de l’adaptation a déjà commencé.  \n\n\n\n \n\n\n\nAlors que la moitié des fermes va changer de main d’ici dix ans\, le film questionne les agriculteurs et chercheurs sans à priori pour repenser notre façon de produire et construire la résilience alimentaire d’un territoire.
URL:https://hainaut-terredegouts.be/evenement/afterwork-gourmand-projection-du-film-la-theorie-du-boxeur-suivi-dune-garden-party/
LOCATION:Hainaut Développement\, Parc scientifique Initialis - boulevard Initialis 22\, Mons\, 7000\, Belgium
CATEGORIES:Séance cinéma | Théatre,Réunion(s),Évènement(s) divers
ATTACH;FMTTYPE=image/jpeg:https://hainaut-terredegouts.be/wp-content/uploads/2024/04/Affiche-theorie-du-boxeur-Nathanael-Coste-copie.jpg
ORGANIZER;CN="Hainaut D%C3%A9veloppement | Agriculture":MAILTO:hd.agriculture@hainaut.be
END:VEVENT
END:VCALENDAR