BEGIN:VCALENDAR
VERSION:2.0
PRODID:-//Hainaut Terre de Gouts - ECPv6.15.17.1//NONSGML v1.0//EN
CALSCALE:GREGORIAN
METHOD:PUBLISH
X-WR-CALNAME:Hainaut Terre de Gouts
X-ORIGINAL-URL:https://hainaut-terredegouts.be
X-WR-CALDESC:Évènements pour Hainaut Terre de Gouts
REFRESH-INTERVAL;VALUE=DURATION:PT1H
X-Robots-Tag:noindex
X-PUBLISHED-TTL:PT1H
BEGIN:VTIMEZONE
TZID:Europe/Brussels
BEGIN:DAYLIGHT
TZOFFSETFROM:+0100
TZOFFSETTO:+0200
TZNAME:CEST
DTSTART:20230326T010000
END:DAYLIGHT
BEGIN:STANDARD
TZOFFSETFROM:+0200
TZOFFSETTO:+0100
TZNAME:CET
DTSTART:20231029T010000
END:STANDARD
BEGIN:DAYLIGHT
TZOFFSETFROM:+0100
TZOFFSETTO:+0200
TZNAME:CEST
DTSTART:20240331T010000
END:DAYLIGHT
BEGIN:STANDARD
TZOFFSETFROM:+0200
TZOFFSETTO:+0100
TZNAME:CET
DTSTART:20241027T010000
END:STANDARD
BEGIN:DAYLIGHT
TZOFFSETFROM:+0100
TZOFFSETTO:+0200
TZNAME:CEST
DTSTART:20250330T010000
END:DAYLIGHT
BEGIN:STANDARD
TZOFFSETFROM:+0200
TZOFFSETTO:+0100
TZNAME:CET
DTSTART:20251026T010000
END:STANDARD
END:VTIMEZONE
BEGIN:VEVENT
DTSTART;TZID=Europe/Brussels:20240515T183000
DTEND;TZID=Europe/Brussels:20240515T203000
DTSTAMP:20260423T084027
CREATED:20240412T123803Z
LAST-MODIFIED:20240415T062317Z
UID:108591-1715797800-1715805000@hainaut-terredegouts.be
SUMMARY:Conférence gesticulée « Dis maman\, c’est quoi qu’on mange »
DESCRIPTION:Dans le cadre des « Rendez-vous en terre agricole« \, le projet « Alimention durable au Cœur du Hainaut » propose une conférence gesticulée sur le système agroalimentaire\, en partenariat avec « La frisette du chou\, maraîchage en agroécologie » à Blaregnies. \n\n\n\n \n\n\n\nPetite-fille de fermier\, Odile est aujourd’hui une bobo urbaine qui ne sait pas planter une patate.  \n\n\n\n \n\n\n\nElle est passionnée de cuisine et s’interroge tous les jours face à son panier ménager.  \n\n\n\n \n\n\n\nQue se cache-t-il derrière ses courses quotidiennes et ses tensions d’écolo frustrée face au système agroalimentaire mondialisé ? \n\n\n\n \n\n\n\nCette conférence gesticulée d’Odile RAMELOT décrit comment les marchés écrasent les prestataires en les mettant tous en compétition via la sacro-sainte concurrence… des prix toujours plus bas qui entraînent\, dans leur chute\, les savoir-faire inhérents à nos métiers. \n\n\n\n \n\n\n\nLe spectacle est accessible idéalement à partir de 12 ans.
URL:https://hainaut-terredegouts.be/evenement/conference-gesticulee-dis-maman-cest-quoi-quon-mange/
LOCATION:La Frisette du Chou\, Rue de Genly 35a\, QUÉVY\, 7040\, Belgium
CATEGORIES:Séance cinéma | Théatre,Conférence(s)
ATTACH;FMTTYPE=image/jpeg:https://hainaut-terredegouts.be/wp-content/uploads/2024/04/AUD_0615.jpg
ORGANIZER;CN="AD-C%C5%93ur du Hainaut":MAILTO:catherine.collie@hainaut.be
END:VEVENT
BEGIN:VEVENT
DTSTART;TZID=Europe/Brussels:20240518T130000
DTEND;TZID=Europe/Brussels:20240519T180000
DTSTAMP:20260423T084027
CREATED:20240412T090132Z
LAST-MODIFIED:20240415T065336Z
UID:108525-1716037200-1716141600@hainaut-terredegouts.be
SUMMARY:Chèvrerie de Luna | Découverte du monde de la chèvre
DESCRIPTION:Chèvrerie de Luna | Dans le cadre des « Rendez-vous en terre agricole« \, durant tout le week-end\, la Chèvrerie de Luna vous invite à partir à la découverte de la chèvre et de son milieu de vie.  \n\n\n\n \n\n\n\nDifférentes activités seront proposées durant les deux jours : outre la découverte de l’élevage des chèvres\, vous pourrez participer à la traite à partir de 16h et câliner les chevreaux\, chevaux\, lapin\, cochons d’Inde…  \n\n\n\n \n\n\n\nTout au long de la journée\, une dégustation des produits fermiers en vente dans notre ferme sera proposée\, un petit marché artisanal vous accueillera le dimanche.  \n\n\n\n \n\n\n\nUne petite restauration sera possible. Pour les plus petits\, il sera aussi possible de faire un petit tour à dos de poney autour de la ferme (suivant la météo). \n\n\n\n \n\n\n\nDurant tout le week-end\, dégustation de la bière de la Brasserie de l’Escaillonne de Chimay et\, à 15h\, explication de la fabrication de la bière et réalisation d’un brassin didactique. \n\n\n\n \n\n\n\nEnfin\, quelques animations agrémenteront votre visite: château gonflable\, circuit de go-karts\, bricolages…  \n\n\n\n \n\n\n\nLe samedi 18 mai\, à partir de 13h\, les Ecuries du Hainaut organiseront un concours de modèle et allures de chevaux de trait (poulains de 1 an et pouliches de 1 à 3 ans).  \n\n\n\n \n\n\n\nEnfin\, le samedi à 19h\, un ciné-débat\, vous sera proposé pour petits et grands; de quoi faire réfléchir à l’importance de maintenir une agriculture familiale. \n\n\n\n \n\n\n\nInscription : inscription souhaitée pour le ciné-débat car les places sont limitées
URL:https://hainaut-terredegouts.be/evenement/chevrerie-de-luna-decouverte-du-monde-de-la-chevre/
LOCATION:Chèvrerie de Luna\, rue de Luna 19\, ESTAIMBOURG\, 7730\, Belgium
CATEGORIES:Visite(s),Séance cinéma | Théatre,Dégustation,Journée portes ouvertes,Concours
ATTACH;FMTTYPE=image/jpeg:https://hainaut-terredegouts.be/wp-content/uploads/2024/04/348864799_3070172089956777_5391258948285810808_n.jpg
ORGANIZER;CN="Ch%C3%A8vrerie de Luna":MAILTO:lachevreriedeluna@gmail.com
END:VEVENT
BEGIN:VEVENT
DTSTART;TZID=Europe/Brussels:20240518T160000
DTEND;TZID=Europe/Brussels:20240518T183000
DTSTAMP:20260423T084027
CREATED:20240410T130103Z
LAST-MODIFIED:20240415T082222Z
UID:108324-1716048000-1716057000@hainaut-terredegouts.be
SUMMARY:Spectacle végétal vivant
DESCRIPTION:Dans le cadre des « Rendez-vous en terre agricole« \, venez semer\, cueillir\, manger et devenir le monde\, en participant à la représentation d’un spectacle documentaire sur le maraîchage\, interprété par un maraîcher-comédien famennois. \n\n\n\n \n\n\n\nCe spectacle\, réalisé à partir d’entretiens avec des maraîcher.ère.s belges et français.es\, partage des témoignages\, tout en s’ouvrant sur l’imaginaire. \n\n\n\n \n\n\n\nAvec curiosité et recherche joyeuses\, il propose au public une porte d’entrée concrète sur la vie quotidienne et les choix politiques de celles et ceux qui travaillent la terre et le végétal : les maraîchers et maraîchères\, paysans et paysannes des légumes.
URL:https://hainaut-terredegouts.be/evenement/spectacle-vegetal-vivant/
LOCATION:Ferme A l’Orée du Bois\, Chemin aux Loups 7\, ECAUSSINNES\, 7190\, Belgium
CATEGORIES:Séance cinéma | Théatre
ATTACH;FMTTYPE=image/jpeg:https://hainaut-terredegouts.be/wp-content/uploads/2024/04/Grande_Image_Sans_Texte.jpg
ORGANIZER;CN="Ferme A l'Or%C3%A9e du Bois":MAILTO:contact@aloreedubois.be
END:VEVENT
END:VCALENDAR