BEGIN:VCALENDAR
VERSION:2.0
PRODID:-//Hainaut Terre de Gouts - ECPv6.15.17.1//NONSGML v1.0//EN
CALSCALE:GREGORIAN
METHOD:PUBLISH
X-ORIGINAL-URL:https://hainaut-terredegouts.be
X-WR-CALDESC:Évènements pour Hainaut Terre de Gouts
REFRESH-INTERVAL;VALUE=DURATION:PT1H
X-Robots-Tag:noindex
X-PUBLISHED-TTL:PT1H
BEGIN:VTIMEZONE
TZID:Europe/Brussels
BEGIN:DAYLIGHT
TZOFFSETFROM:+0100
TZOFFSETTO:+0200
TZNAME:CEST
DTSTART:20240331T010000
END:DAYLIGHT
BEGIN:STANDARD
TZOFFSETFROM:+0200
TZOFFSETTO:+0100
TZNAME:CET
DTSTART:20241027T010000
END:STANDARD
BEGIN:DAYLIGHT
TZOFFSETFROM:+0100
TZOFFSETTO:+0200
TZNAME:CEST
DTSTART:20250330T010000
END:DAYLIGHT
BEGIN:STANDARD
TZOFFSETFROM:+0200
TZOFFSETTO:+0100
TZNAME:CET
DTSTART:20251026T010000
END:STANDARD
BEGIN:DAYLIGHT
TZOFFSETFROM:+0100
TZOFFSETTO:+0200
TZNAME:CEST
DTSTART:20260329T010000
END:DAYLIGHT
BEGIN:STANDARD
TZOFFSETFROM:+0200
TZOFFSETTO:+0100
TZNAME:CET
DTSTART:20261025T010000
END:STANDARD
END:VTIMEZONE
BEGIN:VEVENT
DTSTART;TZID=Europe/Brussels:20250427T150000
DTEND;TZID=Europe/Brussels:20250427T170000
DTSTAMP:20260422T130008
CREATED:20250424T085047Z
LAST-MODIFIED:20250424T085505Z
UID:113548-1745766000-1745773200@hainaut-terredegouts.be
SUMMARY:Notre (sur)vie en terre agricole | Tous dans le même tracteur ! Par la Compagnie des Champs
DESCRIPTION:Dans le cadre de sa mission de sensibilisation des citoyens aux enjeux agricoles\, Hainaut Développement a souhaité donner la parole aux agriculteur.ice.s. sur ce qui les touche quotidiennement\, en leur proposant de participer à un processus collectif de création théâtrale. \n\n\n\n \n\n\n\nLe spectacle créé met en lumière le métier d’agriculteur et ses enjeux\, questionne les idées reçues à son sujet et aborde\, avec humour et émotion\, leurs difficultés quotidiennes et leurs aspirations pour les générations futures. \n\n\n\n \n\n\n\nComposée d’une dizaine d’agriculteur.rice.s hainuyer.e.s et accompagnée par le Théâtre des Rues\, la Compagnie des Champs s’est réunie chaque semaine\, entre septembre 2024 et avril 2025\, pour aboutir à la création collective  « Notre (sur)vie en terre agricole ». \n\n\n\n \n\n\n\nPlus d’informations > bouton « Infos complémentaires » ci-dessous.
URL:https://hainaut-terredegouts.be/evenement/notre-survie-en-terre-agricole-tous-dans-le-meme-tracteur-par-la-compagnie-des-champs/
LOCATION:Salle Culturelle de Colfontaine\, Place du Peuple 3\, Colfontaire\, 7340\, Belgium
CATEGORIES:Séance cinéma | Théatre
ATTACH;FMTTYPE=image/jpeg:https://hainaut-terredegouts.be/wp-content/uploads/2025/04/AFFICHE_Notre-sur_vie-en-terre-agricole_SANS_QR_CODE-crop.jpg
END:VEVENT
END:VCALENDAR