BEGIN:VCALENDAR
VERSION:2.0
PRODID:-//Hainaut Terre de Gouts - ECPv6.15.17.1//NONSGML v1.0//EN
CALSCALE:GREGORIAN
METHOD:PUBLISH
X-WR-CALNAME:Hainaut Terre de Gouts
X-ORIGINAL-URL:https://hainaut-terredegouts.be
X-WR-CALDESC:Évènements pour Hainaut Terre de Gouts
REFRESH-INTERVAL;VALUE=DURATION:PT1H
X-Robots-Tag:noindex
X-PUBLISHED-TTL:PT1H
BEGIN:VTIMEZONE
TZID:Europe/Brussels
BEGIN:DAYLIGHT
TZOFFSETFROM:+0100
TZOFFSETTO:+0200
TZNAME:CEST
DTSTART:20240331T010000
END:DAYLIGHT
BEGIN:STANDARD
TZOFFSETFROM:+0200
TZOFFSETTO:+0100
TZNAME:CET
DTSTART:20241027T010000
END:STANDARD
BEGIN:DAYLIGHT
TZOFFSETFROM:+0100
TZOFFSETTO:+0200
TZNAME:CEST
DTSTART:20250330T010000
END:DAYLIGHT
BEGIN:STANDARD
TZOFFSETFROM:+0200
TZOFFSETTO:+0100
TZNAME:CET
DTSTART:20251026T010000
END:STANDARD
BEGIN:DAYLIGHT
TZOFFSETFROM:+0100
TZOFFSETTO:+0200
TZNAME:CEST
DTSTART:20260329T010000
END:DAYLIGHT
BEGIN:STANDARD
TZOFFSETFROM:+0200
TZOFFSETTO:+0100
TZNAME:CET
DTSTART:20261025T010000
END:STANDARD
END:VTIMEZONE
BEGIN:VEVENT
DTSTART;TZID=Europe/Brussels:20250318T100000
DTEND;TZID=Europe/Brussels:20250318T170000
DTSTAMP:20260426T031558
CREATED:20250205T131312Z
LAST-MODIFIED:20250205T131736Z
UID:111964-1742292000-1742317200@hainaut-terredegouts.be
SUMMARY:Concours de la meilleure glace fermière au lait entier de vache de la Province de Hainaut | Édition 2025
DESCRIPTION:Chocolate coffee ice cream ball in a bowl with organic chocolate\n\n\n\n\n\n\n\nLa Province de Hainaut (Hainaut Développement\, le Pôle fromager de la Ferme expérimentale et pédagogique du CARAH) organisera son deuxième Concours de la meilleure glace fermière au lait entier de vache. Cette année\, le concours porte sur deux parfums : la vanille et le chocolat. \n\n\n\n \n\n\n\nLes glaces participantes au Concours de la Province de Hainaut seront jugées le mardi 18 mars 2025 au Relais de la Haute Sambre\, à Thuin. \n\n\n\n \n\n\n\nPlus d’informations et le nom des fermes participantes prochainement dans nos actualités.
URL:https://hainaut-terredegouts.be/evenement/concours-de-la-meilleure-glace-fermiere-au-lait-entier-de-vache-de-la-province-de-hainaut-edition-2025/
LOCATION:Relais de la Haute Sambre\, Rue de la Font Pépin 12\, Lobbes\, 6540\, Belgium
ATTACH;FMTTYPE=image/jpeg:https://hainaut-terredegouts.be/wp-content/uploads/2025/02/shutterstock_1418765717-scaled.jpg
ORGANIZER;CN="Hainaut D%C3%A9veloppement":MAILTO:info@hainaut-developpement.be
END:VEVENT
END:VCALENDAR