BEGIN:VCALENDAR
VERSION:2.0
PRODID:-//Hainaut Terre de Gouts - ECPv6.15.17.1//NONSGML v1.0//EN
CALSCALE:GREGORIAN
METHOD:PUBLISH
X-ORIGINAL-URL:https://hainaut-terredegouts.be
X-WR-CALDESC:Évènements pour Hainaut Terre de Gouts
REFRESH-INTERVAL;VALUE=DURATION:PT1H
X-Robots-Tag:noindex
X-PUBLISHED-TTL:PT1H
BEGIN:VTIMEZONE
TZID:Europe/Brussels
BEGIN:DAYLIGHT
TZOFFSETFROM:+0100
TZOFFSETTO:+0200
TZNAME:CEST
DTSTART:20250330T010000
END:DAYLIGHT
BEGIN:STANDARD
TZOFFSETFROM:+0200
TZOFFSETTO:+0100
TZNAME:CET
DTSTART:20251026T010000
END:STANDARD
BEGIN:DAYLIGHT
TZOFFSETFROM:+0100
TZOFFSETTO:+0200
TZNAME:CEST
DTSTART:20260329T010000
END:DAYLIGHT
BEGIN:STANDARD
TZOFFSETFROM:+0200
TZOFFSETTO:+0100
TZNAME:CET
DTSTART:20261025T010000
END:STANDARD
BEGIN:DAYLIGHT
TZOFFSETFROM:+0100
TZOFFSETTO:+0200
TZNAME:CEST
DTSTART:20270328T010000
END:DAYLIGHT
BEGIN:STANDARD
TZOFFSETFROM:+0200
TZOFFSETTO:+0100
TZNAME:CET
DTSTART:20271031T010000
END:STANDARD
END:VTIMEZONE
BEGIN:VEVENT
DTSTART;TZID=Europe/Brussels:20260410T170000
DTEND;TZID=Europe/Brussels:20261109T210000
DTSTAMP:20260423T192403
CREATED:20260204T090703Z
LAST-MODIFIED:20260204T090833Z
UID:118065-1775840400-1794258000@hainaut-terredegouts.be
SUMMARY:Marché des producteurs et artisans locaux - THUIN
DESCRIPTION:À l’occasion de son 10ᵉ anniversaire\, le marché des producteurs et artisans locaux de Thuin reconduit son rendez-vous convivial et gourmand dès le printemps 2026. \n\n\n\n \n\n\n\nL’événement se tiendra une fois par mois\, chaque vendredi soir de 17h00 à 21h00\, d’avril à octobre\, sur la Place du Chapitre. \n\n\n\n \n\n\n\nCe marché met à l’honneur les savoir-faire locaux et les productions artisanales du territoire\, dans un cadre propice à la rencontre entre producteurs\, artisans et consommateurs. \n\n\n\n \n\n\n\nA découvrir sur place\, notamment : limonade bio\, confitures\, biscuits\, pâtisseries\, légumes et viandes bios\, tisanes\, pommes de terre\, œufs\, lait de jument\, miel\, fromages de chèvre\, chocolats\, bières et alcools locaux…
URL:https://hainaut-terredegouts.be/evenement/marche-des-producteurs-et-artisans-locaux-thuin/
LOCATION:Place du Chapitre\, Thuin\, Place du Chapitre\, Thuin\, 6530\, Belgium
ATTACH;FMTTYPE=image/jpeg:https://hainaut-terredegouts.be/wp-content/uploads/2023/09/AdobeStock_615922290.jpeg
ORGANIZER;CN="ADL Thuin":MAILTO:catherine.leroy@thuin.be
END:VEVENT
BEGIN:VEVENT
DTSTART;TZID=Europe/Brussels:20260611T100000
DTEND;TZID=Europe/Brussels:20260611T170000
DTSTAMP:20260423T192403
CREATED:20260121T124645Z
LAST-MODIFIED:20260121T125652Z
UID:117752-1781172000-1781197200@hainaut-terredegouts.be
SUMMARY:Concours des « Viandes » du Hainaut 2026
DESCRIPTION:Le concours viandes mettra à l’honneur des pièces nobles\, exigeantes tant sur le plan de la production que de la découpe et de la présentation. Il a pour objectif de valoriser les filières locales de viande de qualité\, dans une logique de circuit court et de traçabilité. \n\n\n\n \n\n\n\nL’épreuve se déroulera au Centre d’Excellence des Métiers de l’Hôtellerie\, à Saint-Ghislain. \n\n\n\n \n\n\n\nLes produits seront jugés sur leur qualité visuelle\, leur tendreté\, leur saveur et leur potentiel culinaire\, des critères essentiels\, tant pour le consommateur que pour les professionnels de la restauration. \n\n\n\n \n\n\n\nCatégories en concours :\n\n\n\n\nOnglet de bœuf\n\n\n\nFilet mignon de porc\n\n\n\nCarré d’agneau\n\n\n\n\n \n\n\n\nCe concours constitue une vitrine privilégiée pour les éleveurs du Hainaut souhaitant démontrer l’excellence de leur production.
URL:https://hainaut-terredegouts.be/evenement/concours-des-viandes-du-hainaut-2026/
LOCATION:Centre d’Excellence des Métiers de l’Hôtellerie\, à Saint-Ghislain\, Rue Grande 86\, Saint-Ghislain\, 7330\, Belgium
CATEGORIES:Concours
ATTACH;FMTTYPE=image/jpeg:https://hainaut-terredegouts.be/wp-content/uploads/2021/11/shutterstock_195258536-1.jpg
ORGANIZER;CN="Hainaut D%C3%A9veloppement":MAILTO:info@hainaut-developpement.be
END:VEVENT
END:VCALENDAR